BEGIN:VCALENDAR
VERSION:2.0
PRODID:-//ChamberMaster//Event Calendar 2.0//EN
METHOD:PUBLISH
X-PUBLISHED-TTL:P3D
REFRESH-INTERVAL:P3D
CALSCALE:GREGORIAN
BEGIN:VEVENT
DTSTART;VALUE=DATE:20110513
DTEND;VALUE=DATE:20110514
TRANSP:TRANSPARENT
X-MICROSOFT-CDO-ALLDAYEVENT:TRUE
SUMMARY:AGM Thursday Night Reception
DESCRIPTION:
X-ALT-DESC;FMTTYPE=text/html:
LOCATION:
UID:e.824.735
SEQUENCE:3
DTSTAMP:20260425T185728Z
URL:https://business.stalbertchamber.com/events/details/agm-thursday-night-reception-05-13-2011-735
END:VEVENT

END:VCALENDAR
