BEGIN:VCALENDAR
VERSION:2.0
PRODID:-//ChamberMaster//Event Calendar 2.0//EN
METHOD:PUBLISH
X-PUBLISHED-TTL:P3D
REFRESH-INTERVAL:P3D
CALSCALE:GREGORIAN
BEGIN:VEVENT
DTSTART;VALUE=DATE:20110514
DTEND;VALUE=DATE:20110515
TRANSP:TRANSPARENT
X-MICROSOFT-CDO-ALLDAYEVENT:TRUE
SUMMARY:AGM Saturday Night Chair's Banquet
DESCRIPTION:
X-ALT-DESC;FMTTYPE=text/html:
LOCATION:
UID:e.824.736
SEQUENCE:3
DTSTAMP:20260425T190250Z
URL:https://business.stalbertchamber.com/events/details/agm-saturday-night-chair-s-banquet-05-14-2011-736
END:VEVENT

END:VCALENDAR
