BEGIN:VCALENDAR
VERSION:2.0
PRODID:-//ChamberMaster//Event Calendar 2.0//EN
METHOD:PUBLISH
X-PUBLISHED-TTL:P3D
REFRESH-INTERVAL:P3D
CALSCALE:GREGORIAN
BEGIN:VEVENT
DTSTART:20260519T153000Z
DTEND:20260519T170000Z
X-MICROSOFT-CDO-ALLDAYEVENT:FALSE
SUMMARY:A.I. For All: For Builders and Professionals
DESCRIPTION:AI for project management and AI for client advisory.
X-ALT-DESC;FMTTYPE=text/html:AI for project management and AI for client advisory.
LOCATION:Zoom/Online Webinar
UID:e.824.2265
SEQUENCE:3
DTSTAMP:20260422T085143Z
URL:https://business.stalbertchamber.com/events/details/a-i-for-all-for-builders-and-professionals-2265
END:VEVENT

END:VCALENDAR
