BEGIN:VCALENDAR
VERSION:2.0
PRODID:-//ChamberMaster//Event Calendar 2.0//EN
METHOD:PUBLISH
X-PUBLISHED-TTL:P3D
REFRESH-INTERVAL:P3D
CALSCALE:GREGORIAN
BEGIN:VEVENT
DTSTART;VALUE=DATE:20130520
DTEND;VALUE=DATE:20130526
TRANSP:TRANSPARENT
X-MICROSOFT-CDO-ALLDAYEVENT:TRUE
SUMMARY:2013 Business in Blue Jeans
DESCRIPTION:St. Albert & District Chamber of Commerce Rainmaker Rodeo Promotion  \n\n	Business in Blue Jeans\n \n\n2013's Winners\n\n\n\n1st  Canadian Western Bank\n\n2nd KDM Management\n\n3rd  X-treme Creations Hair Company\n\n\n\nHonorable Mentions\n\n\n\n- Papillion Inc.\n\n- Sturgeon Animal Hospital Ltd.\n\n- Titan Flooring and Interior Design Ltd. \n\n\n\n\n\nAn opportunity for us to demonstrate to all who come to St. Albert that the spirit of the Rainmaker Rodeo is alive and well in our City.\n\n\n\nLet's get behind this annual event and turn the Rainmaker Rodeo into a week-long celebration of what this means to our businesses\, and to the economy of St. Albert.\n\n\n\nDecorate your place of business May 20-25\, 2013 with that "Western" theme and don't forget to have your employees dress up Friday\, May 24th when the judges will be coming around. There are prizes to be won\, so make sure to be original and get everyone involved in this fun event!\n\n\n\nYour business will be judged on originality\, employee participation\, decoration\, and overall atmosphere. \n\n\n	\n		Decorate your Business \n	\n		Dress Up in Western Wear \n	\n		Celebrate the Rainmaker Rodeo\n\nFIRST PLACE WINS: 4 VIP Concert Tickets + 10 VIP Rodeo Tickets\n\n\n\nSECOND PLACE WINS: 4 General Admission Concert Tickets + 4 VIP Rodeo Tickets\n\n\n\nTHIRD PLACE WINS: 2 General Admission Concert Tickets + 2 VIP Rodeo Tickets
X-ALT-DESC;FMTTYPE=text/html:<div style="text-align: center\;">\n	<span style="font-size:14px\;"><strong><span style="font-family: century gothic\,sans-serif\;">St. Albert &amp\; District Chamber of Commerce Rainmaker Rodeo Promotion &ndash\;</span></strong></span></div>\n<div style="text-align: center\;">\n	<span style="font-size:14px\;"><strong><span style="font-family: century gothic\,sans-serif\;">Business in Blue Jeans</span></strong></span></div>\n<span style="font-size:14px\;">&nbsp\;<br />\n<strong><u><span style="font-family: century gothic\,sans-serif\;">2013&#39\;s Winners</span></u></strong><br />\n<br />\n<span style="font-family: century gothic\,sans-serif\;">1<sup>st</sup>&nbsp\; </span><span style="font-family: century gothic\,sans-serif\;">Canadian Western Bank</span><br />\n<span style="font-family: century gothic\,sans-serif\;">2<sup>nd</sup><sup> </sup></span><span style="font-family: century gothic\,sans-serif\;">KDM Management</span><br />\n<span style="font-family: century gothic\,sans-serif\;">3<sup>rd</sup>&nbsp\; </span><span style="font-family: century gothic\,sans-serif\;">X-treme Creations Hair Company</span><br />\n<br />\n<strong><span style="font-family: century gothic\,sans-serif\;"><u>Honorable Mentions</u></span></strong><br />\n<br />\n<span style="font-family: century gothic\,sans-serif\;">- Papillion Inc.<br />\n- Sturgeon Animal Hospital Ltd.<br />\n- Titan Flooring and Interior Design Ltd. </span></span><br />\n<br />\n<br />\n<strong><em><span style="color:#222222\;"><span style="font-family:century gothic\,sans-serif\;"><span style="font-size:10.5pt\;">An opportunity for us to demonstrate to all who come to St. Albert that the spirit of the Rainmaker Rodeo is alive and well in our City.</span></span></span></em></strong><br />\n<br />\n<span style="color:#222222\;"><span style="font-family:century gothic\,sans-serif\;"><span style="font-size:10.5pt\;">Let&rsquo\;s get behind this annual event and turn the Rainmaker Rodeo into a week-long celebration of what this means to our businesses\, and to the economy of St. Albert.<br />\n<br />\nDecorate your place of business <u>May 20-25\, 2013</u> with that &ldquo\;Western&rdquo\; theme and don&#39\;t forget to have your employees dress up Friday\, May 24th when the judges will be coming around. There are prizes to be won\, so make sure to be original and get everyone involved in this fun event!</span></span></span><br />\n<br />\n<strong><span style="color:#222222\;"><span style="font-family:century gothic\,sans-serif\;"><span style="font-size:10.5pt\;">Your business will be judged on originality\, employee participation\, decoration\, and overall atmosphere. </span></span></span></strong><br />\n<ul>\n	<li style="color:black\;line-height:normal\;">\n		<strong><span style="color:blue\;"><span style="font-family:century gothic\,sans-serif\;"><span style="font-size:10.5pt\;">Decorate</span></span></span></strong><strong><span style="color:#222222\;"><span style="font-family:century gothic\,sans-serif\;"><span style="font-size:10.5pt\;"> your <em>Business&nbsp\;</em></span></span></span></strong></li>\n	<li style="color:black\;line-height:normal\;">\n		<strong><span style="color:red\;"><span style="font-family:century gothic\,sans-serif\;"><span style="font-size:10.5pt\;">Dress Up</span></span></span></strong><strong><span style="color:#222222\;"><span style="font-family:century gothic\,sans-serif\;"><span style="font-size:10.5pt\;"> in <em>Western</em></span></span></span></strong> <strong><em><span style="color:#222222\;"><span style="font-family:century gothic\,sans-serif\;"><span style="font-size:10.5pt\;">Wear </span></span></span></em></strong></li>\n	<li style="color:black\;line-height:normal\;">\n		<strong><span style="color:green\;"><span style="font-family:century gothic\,sans-serif\;"><span style="font-size:10.5pt\;">Celebrate</span></span></span></strong><strong><span style="color:#222222\;"><span style="font-family:century gothic\,sans-serif\;"><span style="font-size:10.5pt\;"> the <em>Rainmaker Rodeo</em></span></span></span></strong></li>\n</ul>\n<span style="color:black\;"><span style="font-family:century gothic\,sans-serif\;"><span style="font-size:12.0pt\;"><span style="font-size:12px\;"><strong>FIRST PLACE WINS: </strong>4 VIP Concert Tickets + 10 VIP Rodeo Tickets<br />\n<br />\n<strong>SECOND PLACE WINS: </strong>4 General Admission Concert Tickets + 4 VIP Rodeo Tickets<br />\n<br />\n<strong>THIRD PLACE WINS: </strong>2 General Admission Concert Tickets + 2 VIP Rodeo Tickets </span></span></span></span>
LOCATION:Your business
UID:e.824.1248
SEQUENCE:3
DTSTAMP:20260420T093452Z
URL:https://business.stalbertchamber.com/events/details/2013-business-in-blue-jeans-05-20-2013-1248
END:VEVENT

END:VCALENDAR
