BEGIN:VCALENDAR
VERSION:2.0
PRODID:-//ChamberMaster//Event Calendar 2.0//EN
METHOD:PUBLISH
X-PUBLISHED-TTL:P3D
REFRESH-INTERVAL:P3D
CALSCALE:GREGORIAN
BEGIN:VEVENT
DTSTART;VALUE=DATE:20120521
DTEND;VALUE=DATE:20120526
TRANSP:TRANSPARENT
X-MICROSOFT-CDO-ALLDAYEVENT:TRUE
SUMMARY:2012 Business in Blue Jeans
DESCRIPTION:CONGRATULATIONS FOR OUR WINNERS OF THE 2012 BUSINESS IN BLUE JEANS CONTEST\n\n	1st place: Canadian Western Bank\n\n	2nd place: Sunshine Promotions\n\n	3rd place: KDM Management Inc. \n\n	\n\n	\n\n	St. Albert and District Chamber of Commerce Rainmaker Rodeo Promotion\n\n	 An opportunity for us to demonstrate to all who come to St. Albert that the spirit of the Rainmaker Rodeo is alive and well in our City.\n\n	\n\n	Let's get behind this annual event\, and turn the Rainmaker Rodeo into a week-long celebration of what this means to our businesses\, and to the economy of St. Albert.\n\n	\n\n	Dress your employees and decorate your place of business May 21-25\, 2012 with that "Western" theme. Your business will be judged on originality\, employee participation\, decoration\, and overall atmosphere. \n\n	\n		Decorate your Business \n	\n		Dress Up in Western Wear \n	\n		Celebrate the Rainmaker Rodeo
X-ALT-DESC;FMTTYPE=text/html:<h1 style="text-align: center">\n	<span style="color: #0000cd"><span style="font-family: palatino linotype\, serif"><span style="font-size: 13pt"><span style="font-size: 16px"><strong><span style="font-family: candara\,sans-serif"><span style="font-size: 11pt"><span style="font-family: palatino linotype\, serif"><strong>CONGRATULATIONS&nbsp\;FOR OUR WINNERS OF THE 2012 BUSINESS&nbsp\;IN BLUE JEANS CONTEST</strong></span></span></span></strong></span></span></span></span></h1>\n<h1>\n	<span style="color: #0000cd"><span style="font-family: palatino linotype\, serif"><span style="font-size: 13pt"><span style="font-size: 16px"><strong><span style="font-family: candara\,sans-serif"><span style="font-size: 11pt"><span style="font-family: palatino linotype\, serif"><strong>1st place: </strong></span></span></span></strong></span></span></span></span><span style="color: #ff0000"><span style="font-family: palatino linotype\, serif"><span style="font-size: 13pt"><span style="font-size: 16px"><strong><span style="font-family: candara\,sans-serif"><span style="font-size: 11pt"><span style="font-family: palatino linotype\, serif"><strong>Canadian Western&nbsp\;Bank</strong></span></span></span></strong></span></span></span></span><br />\n	<span style="color: #0000cd"><span style="font-family: palatino linotype\, serif"><span style="font-size: 13pt"><span style="font-size: 16px"><strong><span style="font-family: candara\,sans-serif"><font size="3"><span><strong><span style="font-family: palatino linotype\, serif">2nd place: </span></strong></span></font></span></strong></span></span></span></span><span style="color: #ff0000"><span style="font-family: palatino linotype\, serif"><span style="font-size: 13pt"><span style="font-size: 16px"><strong><span style="font-family: candara\,sans-serif"><font size="3"><span><strong><span style="font-family: palatino linotype\, serif">Sunshine Promotions</span></strong></span></font></span></strong></span></span></span></span><br />\n	<span style="color: #0000cd"><span style="font-family: palatino linotype\, serif"><span style="font-size: 13pt"><span style="font-size: 16px"><strong><span style="font-family: candara\,sans-serif"><font size="3"><strong><span><span style="font-family: palatino linotype\, serif">3rd&nbsp\;place:&nbsp\;</span></span></strong></font></span></strong></span></span></span></span><span style="color: #ff0000"><span style="font-family: palatino linotype\, serif"><span style="font-size: 13pt"><span style="font-size: 16px"><strong><span style="font-family: candara\,sans-serif"><font size="3"><strong><span><span style="font-family: palatino linotype\, serif">KDM&nbsp\;Management Inc.&nbsp\;</span></span></strong></font></span></strong></span></span></span></span><br />\n	<br />\n	<br />\n	<span style="color: #0000cd"><span style="font-family: palatino linotype\, serif"><span style="font-size: 13pt"><u><span style="font-size: 16px"><strong><span style="font-family: candara\,sans-serif">St. Albert and District Chamber of Commerce Rainmaker Rodeo Promotion</span></strong></span></u></span></span></span><br />\n	&nbsp\;<span style="color: #336699"><span style="font-family: palatino linotype\, serif"><span style="font-size: 13pt"><strong><em><span style="font-size: 12pt"><span style="color: #222222"><span style="font-family: candara\,sans-serif">An opportunity for us to demonstrate to all who come to St. Albert that the spirit of the Rainmaker Rodeo is alive and well in our City.</span></span></span></em></strong></span></span></span><br />\n	<br />\n	<span style="color: #336699"><span style="font-family: palatino linotype\, serif"><span style="font-size: 13pt"><span style="font-size: 12pt"><span style="color: #222222"><span style="font-family: candara\,sans-serif">Let&rsquo\;s get behind this annual event\, and turn the Rainmaker Rodeo into a week-long celebration of what this means to our businesses\, and to the economy of St. Albert.<br />\n	<br />\n	Dress your employees and decorate your place of business May 21-25\, 2012 with that &ldquo\;Western&rdquo\; theme. Your business will be judged on originality\, employee participation\, decoration\, and overall atmosphere. </span></span></span></span></span></span></h1>\n<ul>\n	<li style="line-height: normal\; margin: 0cm 0cm 10pt\; color: black">\n		<span style="color: #336699"><span style="font-family: palatino linotype\, serif"><span style="font-size: 13pt"><strong><span style="font-size: 18pt"><span style="color: blue"><span style="font-family: candara\,sans-serif">Decorate</span></span></span></strong><strong><span style="font-size: 18pt"><span style="color: #222222"><span style="font-family: candara\,sans-serif"> your <em>Business&nbsp\;</em></span></span></span></strong></span></span></span></li>\n	<li style="line-height: normal\; margin: 0cm 0cm 10pt\; color: black">\n		<span style="color: #336699"><span style="font-family: palatino linotype\, serif"><span style="font-size: 13pt"><strong><span style="font-size: 18pt"><span style="color: red"><span style="font-family: candara\,sans-serif">Dress Up</span></span></span></strong><strong><span style="font-size: 18pt"><span style="color: #222222"><span style="font-family: candara\,sans-serif"> in <em>Western</em></span></span></span></strong> <strong><em><span style="font-size: 18pt"><span style="color: #222222"><span style="font-family: candara\,sans-serif">Wear </span></span></span></em></strong></span></span></span></li>\n	<li style="line-height: normal\; margin: 0cm 0cm 10pt\; color: black">\n		<span style="color: #336699"><span style="font-family: palatino linotype\, serif"><span style="font-size: 13pt"><strong><span style="font-size: 18pt"><span style="color: green"><span style="font-family: candara\,sans-serif">Celebrate</span></span></span></strong><strong><span style="font-size: 18pt"><span style="color: #222222"><span style="font-family: candara\,sans-serif"> the <em>Rainmaker Rodeo</em></span></span></span></strong></span></span></span></li>\n</ul>\n<br />\n
LOCATION:Your business
UID:e.824.799
SEQUENCE:3
DTSTAMP:20260425T021340Z
URL:https://business.stalbertchamber.com/events/details/2012-business-in-blue-jeans-05-21-2012-799
END:VEVENT

END:VCALENDAR
