BEGIN:VCALENDAR
VERSION:2.0
PRODID:-//ChamberMaster//Event Calendar 2.0//EN
METHOD:PUBLISH
X-PUBLISHED-TTL:P3D
REFRESH-INTERVAL:P3D
CALSCALE:GREGORIAN
BEGIN:VEVENT
DTSTART:20101203T003000Z
DTEND:20101203T020000Z
X-MICROSOFT-CDO-ALLDAYEVENT:FALSE
SUMMARY:2010 - Business After Hours - 12/2010
DESCRIPTION:Join us for Business After Hours\n\n	on\n\n	\n\n	Thursday\, December 2\, 2010\n\n	5:30 pm - 7:00 pm\n\n	\n\n	Unwined\, The Wine Merchants of St. Albert\n\n	#2\, 512 St. Albert Trail\n\n	\n\n	 \n\n\nCome together with your fellow members for \n\n\n\n              good conversation\n\n    \n\n                                   good food\n\n            \n\n                                                and excellent wine!\n\n\n\n\n\n\n\n\n\n$12.00 for members\n\n$15.00 for potential members\n\n\n\nto be paid at the door.
X-ALT-DESC;FMTTYPE=text/html:<p style="text-align: center">\n	<span style="font-size: 14px"><strong>Join us for Business After Hours</strong></span></p>\n<p style="text-align: center">\n	<span style="font-size: 14px">on<br />\n	<br />\n	Thursday\, December 2\, 2010</span></p>\n<p style="text-align: center">\n	<span style="font-size: 14px">5:30 pm - 7:00 pm<br />\n	<br />\n	Unwined\, The Wine Merchants of St. Albert<br />\n	#2\, 512 St. Albert Trail</span><br />\n	<br />\n	&nbsp\;</p>\n<br />\n<span style="font-size: 14px">Come together with your fellow members for&nbsp\;<br />\n<br />\n&nbsp\;&nbsp\;&nbsp\;&nbsp\;&nbsp\;&nbsp\;&nbsp\;&nbsp\;&nbsp\;&nbsp\;&nbsp\;&nbsp\;&nbsp\; good conversation<br />\n&nbsp\;&nbsp\;&nbsp\;&nbsp\;<br />\n&nbsp\;&nbsp\;&nbsp\;&nbsp\;&nbsp\;&nbsp\;&nbsp\;&nbsp\;&nbsp\;&nbsp\;&nbsp\;&nbsp\;&nbsp\;&nbsp\;&nbsp\;&nbsp\;&nbsp\;&nbsp\;&nbsp\;&nbsp\;&nbsp\;&nbsp\;&nbsp\;&nbsp\;&nbsp\;&nbsp\;&nbsp\;&nbsp\;&nbsp\;&nbsp\;&nbsp\;&nbsp\;&nbsp\; &nbsp\;good food<br />\n&nbsp\;&nbsp\;&nbsp\;&nbsp\;&nbsp\;&nbsp\;&nbsp\;&nbsp\;&nbsp\;&nbsp\;&nbsp\;&nbsp\;<br />\n&nbsp\;&nbsp\;&nbsp\;&nbsp\;&nbsp\;&nbsp\;&nbsp\;&nbsp\;&nbsp\;&nbsp\;&nbsp\;&nbsp\;&nbsp\;&nbsp\;&nbsp\;&nbsp\;&nbsp\;&nbsp\;&nbsp\;&nbsp\;&nbsp\;&nbsp\;&nbsp\;&nbsp\;&nbsp\;&nbsp\;&nbsp\;&nbsp\;&nbsp\;&nbsp\;&nbsp\;&nbsp\;&nbsp\;&nbsp\;&nbsp\;&nbsp\;&nbsp\;&nbsp\;&nbsp\;&nbsp\;&nbsp\;&nbsp\; &nbsp\;&nbsp\;&nbsp\;&nbsp\; and excellent wine!<br />\n<br />\n<br />\n<br />\n<br />\n$12.00 for members<br />\n$15.00 for potential members<br />\n<br />\nto be paid at the door.</span><br />\n<br />\n<br />\n<br />\n
LOCATION:Unwined\, The Wine Merchants of St. Albert #2\, 512 St. Albert Trail
UID:e.824.649
SEQUENCE:3
DTSTAMP:20260426T042005Z
URL:https://business.stalbertchamber.com/events/details/2010-business-after-hours-12-2010-12-02-2010-649
END:VEVENT

END:VCALENDAR
